BEGIN:VCALENDAR
VERSION:2.0
PRODID:-//wp-events-plugin.com//7.2.3.1//EN
BEGIN:VEVENT
UID:1@younggov.org
DTSTART:20241004T180000Z
DTEND:20241004T213000Z
DTSTAMP:20240905T032022Z
URL:https://younggov.org/events/join-us-for-ygls-annual-fiscal-new-year-pa
 rty/
SUMMARY:Join us for YGL’s Annual Fiscal New Year Party!
DESCRIPTION:Come join Young Government Leaders (YGL) at The Commentary fo
 r a night of celebration and networking. This in-person event is the perfe
 ct opportunity to connect with fellow professionals and start the new fisc
 al year off right. It’s a cherished tradition to say goodbye to the old 
 year and welcome the new one with a grand celebration. This year’s event
  will be something special\, so don’t miss the opportunity to network an
 d learn about our new initiatives. Perfect your pizza and cocktail-making 
 skills at The Commentary’s Artisan Pizza + Craft Cocktail Class! Enjoy a
  hands-on experience that includes an appetizer\, creating your own artisa
 n pizza\, crafting two cocktails (or mocktails)\, and indulging in a sweet
  dessert. https://www.eventbrite.com/e/ygl-fiscal-new-year-party-tickets-
 1004234651877
ATTACH;FMTTYPE=image/jpeg:https://younggov.org/wp-content/uploads/2024/09/
 unnamed-300x300-1.png
CATEGORIES:Special Event
LOCATION:The Commentary\, 801 North Glebe Road\, Arlington\, VA\, 22203\, U
 nited States
X-APPLE-STRUCTURED-LOCATION;VALUE=URI;X-ADDRESS=801 North Glebe Road\, Arli
 ngton\, VA\, 22203\, United States;X-APPLE-RADIUS=100;X-TITLE=The Commenta
 ry:geo:0,0
END:VEVENT
END:VCALENDAR