BEGIN:VCALENDAR
VERSION:2.0
PRODID:-//Young Government Leaders - ECPv6.15.20//NONSGML v1.0//EN
CALSCALE:GREGORIAN
METHOD:PUBLISH
X-ORIGINAL-URL:https://younggov.org
X-WR-CALDESC:Events for Young Government Leaders
REFRESH-INTERVAL;VALUE=DURATION:PT1H
X-Robots-Tag:noindex
X-PUBLISHED-TTL:PT1H
BEGIN:VTIMEZONE
TZID:UTC
BEGIN:STANDARD
TZOFFSETFROM:+0000
TZOFFSETTO:+0000
TZNAME:UTC
DTSTART:20250101T000000
END:STANDARD
END:VTIMEZONE
BEGIN:VEVENT
DTSTART;TZID=UTC:20260119T190000
DTEND;TZID=UTC:20260119T190000
DTSTAMP:20260423T194556
CREATED:20260101T203918Z
LAST-MODIFIED:20260101T204335Z
UID:910-1768849200-1768849200@younggov.org
SUMMARY:Mentoring Program Informational Webinar
DESCRIPTION:Registration at: https://us02web.zoom.us/meeting/register/RySAxac1QCivWo0OSvpFGg- /registration 
URL:https://younggov.org/event/mentoring-program-informational-webinar/
LOCATION:Virtual
CATEGORIES:Mentoring
END:VEVENT
END:VCALENDAR